DSET spp_cpcuni_comb_3ic-0proj.dat
*
UNDEF -999.9
*
OPTIONS big_endian
*
TITLE Africa Daily Precip
*
XDEF 720 LINEAR 0.25 0.5
*
YDEF 360 LINEAR -89.75 0.5
*
ZDEF 1 LEVELS 1
*
TDEF 1 LINEAR 01Jan2013 1dy
*
VARS 3
p1 0 99 ch08 merged analysis
p2 0 99 ch08 merged analysis
p3 0 99 ch08 merged analysis
ENDVARS
